BEGIN:VCALENDAR
VERSION:2.0
PRODID:-//Women In Travel Retail+ - ECPv6.15.17.1//NONSGML v1.0//EN
CALSCALE:GREGORIAN
METHOD:PUBLISH
X-ORIGINAL-URL:https://womenintr.com
X-WR-CALDESC:Events for Women In Travel Retail+
REFRESH-INTERVAL;VALUE=DURATION:PT1H
X-Robots-Tag:noindex
X-PUBLISHED-TTL:PT1H
BEGIN:VTIMEZONE
TZID:Asia/Kolkata
BEGIN:STANDARD
TZOFFSETFROM:+0530
TZOFFSETTO:+0530
TZNAME:IST
DTSTART:20230101T000000
END:STANDARD
END:VTIMEZONE
BEGIN:VEVENT
DTSTART;VALUE=DATE:20240320
DTEND;VALUE=DATE:20240321
DTSTAMP:20260421T060433
CREATED:20240801T170321Z
LAST-MODIFIED:20241015T085348Z
UID:1098-1710892800-1710979199@womenintr.com
SUMMARY:APTRA
DESCRIPTION:Delegates at the inaugural APTRA conference in Delhi (March 19-21) were invited by WiTR+ to meet up and enjoy a cocktail or two before the event Gala Dinner. Kindly sponsored by Bacardi\, this was a super opportunity to catch up with friend and colleagues whilst making those important new contacts. WiTR+ steering committee and APTRA  board member Erin Lillis  welcomed attendees\, outlined the purpose of WiTR+ and encouraged new membership\, highlighting the corporate membership now available. 
URL:https://womenintr.com/event/aptra/
LOCATION:Dehli
END:VEVENT
END:VCALENDAR