BEGIN:VCALENDAR
VERSION:2.0
PRODID:-//Women In Travel Retail+ - ECPv6.15.17.1//NONSGML v1.0//EN
CALSCALE:GREGORIAN
METHOD:PUBLISH
X-WR-CALNAME:Women In Travel Retail+
X-ORIGINAL-URL:https://womenintr.com
X-WR-CALDESC:Events for Women In Travel Retail+
REFRESH-INTERVAL;VALUE=DURATION:PT1H
X-Robots-Tag:noindex
X-PUBLISHED-TTL:PT1H
BEGIN:VTIMEZONE
TZID:Asia/Muscat
BEGIN:STANDARD
TZOFFSETFROM:+0400
TZOFFSETTO:+0400
TZNAME:+04
DTSTART:20230101T000000
END:STANDARD
END:VTIMEZONE
BEGIN:VEVENT
DTSTART;TZID=Asia/Muscat:20240603T130000
DTEND;TZID=Asia/Muscat:20240603T143000
DTSTAMP:20260421T004459
CREATED:20240801T170321Z
LAST-MODIFIED:20241015T085333Z
UID:1100-1717419600-1717425000@womenintr.com
SUMMARY:TR Consumer Forum
DESCRIPTION:Dubai Duty Free\, in collaboration with Shiseido and L’Occitane\, hosted Women in Travel Retail Plus (WiTR+) networking event on the first day of the TR Consumer Forum in Dubai. The afternoon tea event which was held at the Cuba Bar of the Jumeirah Creekside\, provided a fantastic chance to catch up with fellow female industry executives and delegates of TR Consumer Forum and discover some new beauty products in the process.
URL:https://womenintr.com/event/tr-consumer-forum/
LOCATION:Cuba Bar\, Jumeirah Creekside Hotel (8th floor)
END:VEVENT
END:VCALENDAR