BEGIN:VCALENDAR
VERSION:2.0
PRODID:-//Women In Travel Retail+ - ECPv6.15.17.1//NONSGML v1.0//EN
CALSCALE:GREGORIAN
METHOD:PUBLISH
X-ORIGINAL-URL:https://womenintr.com
X-WR-CALDESC:Events for Women In Travel Retail+
REFRESH-INTERVAL;VALUE=DURATION:PT1H
X-Robots-Tag:noindex
X-PUBLISHED-TTL:PT1H
BEGIN:VTIMEZONE
TZID:Europe/London
BEGIN:DAYLIGHT
TZOFFSETFROM:+0000
TZOFFSETTO:+0100
TZNAME:BST
DTSTART:20230326T010000
END:DAYLIGHT
BEGIN:STANDARD
TZOFFSETFROM:+0100
TZOFFSETTO:+0000
TZNAME:GMT
DTSTART:20231029T010000
END:STANDARD
BEGIN:DAYLIGHT
TZOFFSETFROM:+0000
TZOFFSETTO:+0100
TZNAME:BST
DTSTART:20240331T010000
END:DAYLIGHT
BEGIN:STANDARD
TZOFFSETFROM:+0100
TZOFFSETTO:+0000
TZNAME:GMT
DTSTART:20241027T010000
END:STANDARD
BEGIN:DAYLIGHT
TZOFFSETFROM:+0000
TZOFFSETTO:+0100
TZNAME:BST
DTSTART:20250330T010000
END:DAYLIGHT
BEGIN:STANDARD
TZOFFSETFROM:+0100
TZOFFSETTO:+0000
TZNAME:GMT
DTSTART:20251026T010000
END:STANDARD
END:VTIMEZONE
BEGIN:VEVENT
DTSTART;TZID=Europe/London:20241118T120000
DTEND;TZID=Europe/London:20241118T130000
DTSTAMP:20260420T150649
CREATED:20241129T111358Z
LAST-MODIFIED:20241129T111358Z
UID:2125-1731931200-1731934800@womenintr.com
SUMMARY:MEADFA Gathering
DESCRIPTION:Around 45 industry women attended an informal WiTR+ gathering during the MEADFA conference in Abu Dhabi. Founder Sarah Branquinho explaned the history and purpose of WiTR+ along with the many benefits of membership – corporate or individual. Members now total nearly 800 across the globe with an increasing number of networking opportunities through regional events and webinars.
URL:https://womenintr.com/event/meadfa-gathering/
LOCATION:Abu Dhabi
END:VEVENT
END:VCALENDAR