BEGIN:VCALENDAR
VERSION:2.0
PRODID:-//Women In Travel Retail+ - ECPv6.15.17.1//NONSGML v1.0//EN
CALSCALE:GREGORIAN
METHOD:PUBLISH
X-WR-CALNAME:Women In Travel Retail+
X-ORIGINAL-URL:https://womenintr.com
X-WR-CALDESC:Events for Women In Travel Retail+
REFRESH-INTERVAL;VALUE=DURATION:PT1H
X-Robots-Tag:noindex
X-PUBLISHED-TTL:PT1H
BEGIN:VTIMEZONE
TZID:Asia/Hong_Kong
BEGIN:STANDARD
TZOFFSETFROM:+0800
TZOFFSETTO:+0800
TZNAME:HKT
DTSTART:20220101T000000
END:STANDARD
END:VTIMEZONE
BEGIN:VTIMEZONE
TZID:Asia/Singapore
BEGIN:STANDARD
TZOFFSETFROM:+0800
TZOFFSETTO:+0800
TZNAME:+08
DTSTART:20220101T000000
END:STANDARD
END:VTIMEZONE
BEGIN:VEVENT
DTSTART;VALUE=DATE:20230801
DTEND;VALUE=DATE:20230802
DTSTAMP:20260421T163037
CREATED:20240801T170303Z
LAST-MODIFIED:20241015T085348Z
UID:1088-1690848000-1690934399@womenintr.com
SUMMARY:Summer in the City with APTRA
DESCRIPTION:Thank You APTRA and WiTR for showcasing komakaranthfoundation.org. I was overwhelmed with the support and platform to represent our work and team. Thank You Sunil Tuli and Erin Lillis for organising this fantastic event! The Asia Pacific Travel Retail Association (APTRA)\, in partnership with Women in Travel Retail+\, drew more than 80 members of the travel retail community to its Summer in the City networking event in Hong Kong. Also speaking was KPMG Head of Consumer and Retail ASPAC Anson Bailey\, who shared his perspectives on the latest travel and travel retail trends.
URL:https://womenintr.com/event/summer-in-the-city-with-aptra/
END:VEVENT
BEGIN:VEVENT
DTSTART;TZID=Asia/Singapore:20230802T113000
DTEND;TZID=Asia/Singapore:20230802T133000
DTSTAMP:20260421T163037
CREATED:20240801T170303Z
LAST-MODIFIED:20241015T085348Z
UID:1087-1690975800-1690983000@womenintr.com
SUMMARY:WiTR+ Charity Event
DESCRIPTION:
URL:https://womenintr.com/event/witr-charity-event/
LOCATION:Changi Experience Studio
END:VEVENT
END:VCALENDAR