BEGIN:VCALENDAR
VERSION:2.0
PRODID:-//Women In Travel Retail+ - ECPv6.15.17.1//NONSGML v1.0//EN
CALSCALE:GREGORIAN
METHOD:PUBLISH
X-ORIGINAL-URL:https://womenintr.com
X-WR-CALDESC:Events for Women In Travel Retail+
REFRESH-INTERVAL;VALUE=DURATION:PT1H
X-Robots-Tag:noindex
X-PUBLISHED-TTL:PT1H
BEGIN:VTIMEZONE
TZID:Asia/Muscat
BEGIN:STANDARD
TZOFFSETFROM:+0400
TZOFFSETTO:+0400
TZNAME:+04
DTSTART:20230101T000000
END:STANDARD
END:VTIMEZONE
BEGIN:VTIMEZONE
TZID:Europe/Brussels
BEGIN:DAYLIGHT
TZOFFSETFROM:+0100
TZOFFSETTO:+0200
TZNAME:CEST
DTSTART:20230326T010000
END:DAYLIGHT
BEGIN:STANDARD
TZOFFSETFROM:+0200
TZOFFSETTO:+0100
TZNAME:CET
DTSTART:20231029T010000
END:STANDARD
BEGIN:DAYLIGHT
TZOFFSETFROM:+0100
TZOFFSETTO:+0200
TZNAME:CEST
DTSTART:20240331T010000
END:DAYLIGHT
BEGIN:STANDARD
TZOFFSETFROM:+0200
TZOFFSETTO:+0100
TZNAME:CET
DTSTART:20241027T010000
END:STANDARD
BEGIN:DAYLIGHT
TZOFFSETFROM:+0100
TZOFFSETTO:+0200
TZNAME:CEST
DTSTART:20250330T010000
END:DAYLIGHT
BEGIN:STANDARD
TZOFFSETFROM:+0200
TZOFFSETTO:+0100
TZNAME:CET
DTSTART:20251026T010000
END:STANDARD
END:VTIMEZONE
BEGIN:VTIMEZONE
TZID:Europe/London
BEGIN:DAYLIGHT
TZOFFSETFROM:+0000
TZOFFSETTO:+0100
TZNAME:BST
DTSTART:20230326T010000
END:DAYLIGHT
BEGIN:STANDARD
TZOFFSETFROM:+0100
TZOFFSETTO:+0000
TZNAME:GMT
DTSTART:20231029T010000
END:STANDARD
BEGIN:DAYLIGHT
TZOFFSETFROM:+0000
TZOFFSETTO:+0100
TZNAME:BST
DTSTART:20240331T010000
END:DAYLIGHT
BEGIN:STANDARD
TZOFFSETFROM:+0100
TZOFFSETTO:+0000
TZNAME:GMT
DTSTART:20241027T010000
END:STANDARD
BEGIN:DAYLIGHT
TZOFFSETFROM:+0000
TZOFFSETTO:+0100
TZNAME:BST
DTSTART:20250330T010000
END:DAYLIGHT
BEGIN:STANDARD
TZOFFSETFROM:+0100
TZOFFSETTO:+0000
TZNAME:GMT
DTSTART:20251026T010000
END:STANDARD
END:VTIMEZONE
BEGIN:VEVENT
DTSTART;TZID=Asia/Muscat:20240603T130000
DTEND;TZID=Asia/Muscat:20240603T143000
DTSTAMP:20260420T225544
CREATED:20240801T170321Z
LAST-MODIFIED:20241015T085333Z
UID:1100-1717419600-1717425000@womenintr.com
SUMMARY:TR Consumer Forum
DESCRIPTION:Dubai Duty Free\, in collaboration with Shiseido and L’Occitane\, hosted Women in Travel Retail Plus (WiTR+) networking event on the first day of the TR Consumer Forum in Dubai. The afternoon tea event which was held at the Cuba Bar of the Jumeirah Creekside\, provided a fantastic chance to catch up with fellow female industry executives and delegates of TR Consumer Forum and discover some new beauty products in the process.
URL:https://womenintr.com/event/tr-consumer-forum/
LOCATION:Cuba Bar\, Jumeirah Creekside Hotel (8th floor)
END:VEVENT
BEGIN:VEVENT
DTSTART;VALUE=DATE:20240618
DTEND;VALUE=DATE:20240619
DTSTAMP:20260420T225544
CREATED:20240801T170336Z
LAST-MODIFIED:20241015T085333Z
UID:1101-1718668800-1718755199@womenintr.com
SUMMARY:Networking in Paris
DESCRIPTION:A huge thank you to Caroline Buisson of Brown-Forman and Nicole Daniells of TFWA who organsied a Parisian get together for WiTR+ on the 19th June at Café A in Paris. \n \n  \nThe invitation for this event was extended to WiTR members and non members\, providing an excellent opportunity for networking and fruitful exchanges within our WiTR community. Companies who attended included Brown-Forman\, TFWA and Globe Agency. \nThis event was organized in collaboration between Brown-Forman and TFWA\, two companies sharing a common commitment to advancing diversity and inclusion in the Travel Retail field. \nWe look forward to hosting more WITR+ events in the future in Paris next year and they will be posted on the events page once confirmed.
URL:https://womenintr.com/event/networking-in-paris/
LOCATION:TBC\, Paris
END:VEVENT
BEGIN:VEVENT
DTSTART;VALUE=DATE:20240619
DTEND;VALUE=DATE:20240621
DTSTAMP:20260420T225544
CREATED:20240801T170336Z
LAST-MODIFIED:20241015T085333Z
UID:1102-1718755200-1718927999@womenintr.com
SUMMARY:Asutil
DESCRIPTION:Nearly 30 fantastic women from Latin America and other regions met in Bogota during the ASUTIL conference (18-19 June) to network and hear about the exciting new developments at WiTR+. \n \nSome were members already\, but for many this was their first WiTR+ meeting and there was real enthusiasm to contribute to developing an active WiTR+ group in Latin America. \nWe talked about all the elements that are making WiTR such a great group for women in the travel retail industry to join – from the networking sessions\, to our monthly webinars\, the resources that our newly revamped website will contain\, our charity activity (this year FRASI – nominated by Essence Corp)\, and last but not least our plans for a mentoring programme. \nMost of those attending were keen to know how to become members\, either as individuals or through Corporate Partnership scheme\, and are determined to start by creating an event in Miami later this year\, taking inspiration from events like the recent one held in Dubai\, organise by Sinead ElSibai at Dubai Duty Free in conjunction with the TRB conference. \nA big thank you to Republica del Cacao who fuelled us with delicious coffee and chocolates\, and to ASUTIL and TFWA for all their help.
URL:https://womenintr.com/event/asutil/
LOCATION:Bogota\, Colombia
END:VEVENT
END:VCALENDAR