BEGIN:VCALENDAR
VERSION:2.0
PRODID:-//Women In Travel Retail+ - ECPv6.15.17.1//NONSGML v1.0//EN
CALSCALE:GREGORIAN
METHOD:PUBLISH
X-WR-CALNAME:Women In Travel Retail+
X-ORIGINAL-URL:https://womenintr.com
X-WR-CALDESC:Events for Women In Travel Retail+
REFRESH-INTERVAL;VALUE=DURATION:PT1H
X-Robots-Tag:noindex
X-PUBLISHED-TTL:PT1H
BEGIN:VTIMEZONE
TZID:Europe/London
BEGIN:DAYLIGHT
TZOFFSETFROM:+0000
TZOFFSETTO:+0100
TZNAME:BST
DTSTART:20230326T010000
END:DAYLIGHT
BEGIN:STANDARD
TZOFFSETFROM:+0100
TZOFFSETTO:+0000
TZNAME:GMT
DTSTART:20231029T010000
END:STANDARD
BEGIN:DAYLIGHT
TZOFFSETFROM:+0000
TZOFFSETTO:+0100
TZNAME:BST
DTSTART:20240331T010000
END:DAYLIGHT
BEGIN:STANDARD
TZOFFSETFROM:+0100
TZOFFSETTO:+0000
TZNAME:GMT
DTSTART:20241027T010000
END:STANDARD
BEGIN:DAYLIGHT
TZOFFSETFROM:+0000
TZOFFSETTO:+0100
TZNAME:BST
DTSTART:20250330T010000
END:DAYLIGHT
BEGIN:STANDARD
TZOFFSETFROM:+0100
TZOFFSETTO:+0000
TZNAME:GMT
DTSTART:20251026T010000
END:STANDARD
END:VTIMEZONE
BEGIN:VEVENT
DTSTART;TZID=Europe/London:20240709T120000
DTEND;TZID=Europe/London:20240709T133000
DTSTAMP:20260420T205056
CREATED:20240801T170321Z
LAST-MODIFIED:20241015T085333Z
UID:1096-1720526400-1720531800@womenintr.com
SUMMARY:Thriving in APAC: Navigating Work and Life with speaker Erin Lillis
DESCRIPTION:Speaker: Erin Lillis – Lacoste
URL:https://womenintr.com/event/thriving-in-apac-navigating-work-and-life-with-speaker-erin-lillis/
CATEGORIES:Webinars
END:VEVENT
BEGIN:VEVENT
DTSTART;VALUE=DATE:20240710
DTEND;VALUE=DATE:20240711
DTSTAMP:20260420T205056
CREATED:20240801T170336Z
LAST-MODIFIED:20241015T085333Z
UID:1103-1720569600-1720655999@womenintr.com
SUMMARY:Gebr Heinemann Event
DESCRIPTION:Thank you @Gebr. Heinemann for hosting our latest WiTR+ networking night in Hamburg. \n \nAround 30 female executives from travel retail and representatives of Gebr. Heinemann suppliers met for a dinner at ÆNDRÈ restaurant. The welcome speeches were given by our Chair @Sarah Branquinho and @Saskia Möller\, Director Legal\, Compliance & Sustainability\, who has been a member of our Steering Board since the end of 2023. \n \n@Janine Op Het Veld\, founder of ÆNDRÈ\, spoke about her career\, challenges in her industry as a woman and her mission to contribute to sustainability in the world with her food. In a very personal keynote speech\, @Kerstin Schepers\, Managing Director Heinemann Cruise Liner Global GmbH Retail\, addressed the importance of motivation\, confidence and trust in oneself and combined this with key insights from her own personal and professional experience. \n“We are delighted that the second WiTR+ networking event we´ve hosted as Gebr. Heinemann was so well received\,” says Saskia Möller. “We chose ÆNDRÈ because it is run by a very committed intercultural team of women and because it focuses on sustainability\, with high-quality vegan and seasonal dishes and food sharing. In both my roles at Gebr. Heinemann and WiTR+\, it is very important to me to combine personal\, human-centric exchange with sustainability.” \nA fundraiser for FRASI´s “Bike to School” project in Sri Lanka\, which we significantly support this year\, also contributes to the sustainability aspect. Gebr. Heinemann has kindly agreed to double the amount raised. We would like to express our sincere thanks. \nMany thanks also to all wonderful women who joined and made our Hamburg event another great opportunity to learn from\, inspire and support each other. \n#EmpoweringWomen #Networking #Charity
URL:https://womenintr.com/event/gebr-heinemann-event/
LOCATION:AENDRE (Schlüterstraße 86\, 20146\, Hamburg
END:VEVENT
END:VCALENDAR