BEGIN:VCALENDAR
VERSION:2.0
PRODID:-//Women In Travel Retail+ - ECPv6.15.17.1//NONSGML v1.0//EN
CALSCALE:GREGORIAN
METHOD:PUBLISH
X-ORIGINAL-URL:https://womenintr.com
X-WR-CALDESC:Events for Women In Travel Retail+
REFRESH-INTERVAL;VALUE=DURATION:PT1H
X-Robots-Tag:noindex
X-PUBLISHED-TTL:PT1H
BEGIN:VTIMEZONE
TZID:Europe/Brussels
BEGIN:DAYLIGHT
TZOFFSETFROM:+0100
TZOFFSETTO:+0200
TZNAME:CEST
DTSTART:20230326T010000
END:DAYLIGHT
BEGIN:STANDARD
TZOFFSETFROM:+0200
TZOFFSETTO:+0100
TZNAME:CET
DTSTART:20231029T010000
END:STANDARD
BEGIN:DAYLIGHT
TZOFFSETFROM:+0100
TZOFFSETTO:+0200
TZNAME:CEST
DTSTART:20240331T010000
END:DAYLIGHT
BEGIN:STANDARD
TZOFFSETFROM:+0200
TZOFFSETTO:+0100
TZNAME:CET
DTSTART:20241027T010000
END:STANDARD
BEGIN:DAYLIGHT
TZOFFSETFROM:+0100
TZOFFSETTO:+0200
TZNAME:CEST
DTSTART:20250330T010000
END:DAYLIGHT
BEGIN:STANDARD
TZOFFSETFROM:+0200
TZOFFSETTO:+0100
TZNAME:CET
DTSTART:20251026T010000
END:STANDARD
END:VTIMEZONE
BEGIN:VTIMEZONE
TZID:Europe/Paris
BEGIN:DAYLIGHT
TZOFFSETFROM:+0100
TZOFFSETTO:+0200
TZNAME:CEST
DTSTART:20230326T010000
END:DAYLIGHT
BEGIN:STANDARD
TZOFFSETFROM:+0200
TZOFFSETTO:+0100
TZNAME:CET
DTSTART:20231029T010000
END:STANDARD
BEGIN:DAYLIGHT
TZOFFSETFROM:+0100
TZOFFSETTO:+0200
TZNAME:CEST
DTSTART:20240331T010000
END:DAYLIGHT
BEGIN:STANDARD
TZOFFSETFROM:+0200
TZOFFSETTO:+0100
TZNAME:CET
DTSTART:20241027T010000
END:STANDARD
BEGIN:DAYLIGHT
TZOFFSETFROM:+0100
TZOFFSETTO:+0200
TZNAME:CEST
DTSTART:20250330T010000
END:DAYLIGHT
BEGIN:STANDARD
TZOFFSETFROM:+0200
TZOFFSETTO:+0100
TZNAME:CET
DTSTART:20251026T010000
END:STANDARD
END:VTIMEZONE
BEGIN:VEVENT
DTSTART;TZID=Europe/Brussels:20241001T163000
DTEND;TZID=Europe/Brussels:20241001T183000
DTSTAMP:20260420T150648
CREATED:20240801T170337Z
LAST-MODIFIED:20241015T160013Z
UID:1105-1727800200-1727807400@womenintr.com
SUMMARY:TFWA World Exhibition (Members only)
DESCRIPTION:
URL:https://womenintr.com/event/tfwa-world-exhibition-members-only/
LOCATION:Brown Forman Stand\, Cannes
END:VEVENT
BEGIN:VEVENT
DTSTART;TZID=Europe/Paris:20241029T183000
DTEND;TZID=Europe/Paris:20241029T220000
DTSTAMP:20260420T150648
CREATED:20240923T203617Z
LAST-MODIFIED:20241105T123148Z
UID:1859-1730226600-1730239200@womenintr.com
SUMMARY:Empowering Connections: Unlocking Leadership Potential Through Networking
DESCRIPTION:On October 29\, 2024\, Geneva hosted its inaugural Women in Travel Retail (WiTR+) networking event at the offices of Bacardi. This first-of-its-kind gathering in Geneva brought together more than 40 influential women from the travel retail sector\, creating a unique platform for connection\, inspiration\, and empowerment. The evening featured engaging conversations along with an inspiring talk by Dominique Ben Dhaou\, Managing Director of PointNorth. \nDominique\, with her extensive background in HR leadership across 12 industries globally\, spoke on the theme\, “Empowering Connections: Unlocking Leadership Potential Through Networking.” Her insights on leadership and well-being set the stage for meaningful interactions among attendees\, sparking discussions on collaboration and professional growth. \nThis landmark event not only marked a pivotal moment for women in Geneva’s travel retail sector but also paved the way for future gatherings\, strengthening networks and fostering a community of empowered female leaders. \nOur thanks go to Bacardi for hosting the event and to Avelines for the tasty gifts. \n 
URL:https://womenintr.com/event/empowering-connections-unlocking-leadership-potential-through-networking/
LOCATION:Bacardi\, Rte de Meyrin 265\, Meyrin\, 1217\, Switzerland
END:VEVENT
END:VCALENDAR